BEGIN:VCALENDAR
VERSION:2.0
PRODID:-//L&#039;Aquila Capitale italiana della Cultura 2026 - ECPv6.15.20//NONSGML v1.0//EN
CALSCALE:GREGORIAN
METHOD:PUBLISH
X-ORIGINAL-URL:https://laquila2026.nurtest.it
X-WR-CALDESC:Eventi per L&#039;Aquila Capitale italiana della Cultura 2026
REFRESH-INTERVAL;VALUE=DURATION:PT1H
X-Robots-Tag:noindex
X-PUBLISHED-TTL:PT1H
BEGIN:VTIMEZONE
TZID:Europe/Rome
BEGIN:DAYLIGHT
TZOFFSETFROM:+0100
TZOFFSETTO:+0200
TZNAME:CEST
DTSTART:20250330T010000
END:DAYLIGHT
BEGIN:STANDARD
TZOFFSETFROM:+0200
TZOFFSETTO:+0100
TZNAME:CET
DTSTART:20251026T010000
END:STANDARD
BEGIN:DAYLIGHT
TZOFFSETFROM:+0100
TZOFFSETTO:+0200
TZNAME:CEST
DTSTART:20260329T010000
END:DAYLIGHT
BEGIN:STANDARD
TZOFFSETFROM:+0200
TZOFFSETTO:+0100
TZNAME:CET
DTSTART:20261025T010000
END:STANDARD
BEGIN:DAYLIGHT
TZOFFSETFROM:+0100
TZOFFSETTO:+0200
TZNAME:CEST
DTSTART:20270328T010000
END:DAYLIGHT
BEGIN:STANDARD
TZOFFSETFROM:+0200
TZOFFSETTO:+0100
TZNAME:CET
DTSTART:20271031T010000
END:STANDARD
END:VTIMEZONE
BEGIN:VEVENT
DTSTART;TZID=Europe/Rome:20260416T210000
DTEND;TZID=Europe/Rome:20260416T210000
DTSTAMP:20260420T125610
CREATED:20260105T103757Z
LAST-MODIFIED:20260217T150227Z
UID:2483-1776373200-1776373200@laquila2026.nurtest.it
SUMMARY:Italiani da Oscar: proiezione di "Espiazione"
DESCRIPTION:Migliore Colonna sonora a Dario Marianelli -Espiazione\, 2007\, regia Joe Wright. \nUna rassegna che celebra il talento e la maestria dei professionisti italiani che hanno contribuito in modo significativo alla cinematografia mondiale\, vincendo l’Oscar. Questa rassegna mette in luce le figure chiave del cinema italiano\, non solo registi\, ma anche attori\, sceneggiatori\, direttori della fotografia\, montatori e costumisti\, il cui lavoro ha arricchito le produzioni internazionali. Attraverso una selezione di film che rappresentano il meglio del cinema italiano\, l’iniziativa esplora come le competenze artigianali e creative italiane siano alla base di opere che hanno lasciato il segno nella storia del cinema globale\, continuando a ispirare e affascinare anche le nuove generazioni di cineasti.
URL:https://laquila2026.nurtest.it/evento/i-mestieri-del-cinema-italiani-da-oscar-7/
LOCATION:Multisala Movieplex – L’Aquila\, Via Leonardo da Vinci\, 7\, L'Aquila
CATEGORIES:Cinema
ATTACH;FMTTYPE=image/jpeg:https://laquila2026.nurtest.it/wp-content/uploads/2026/01/atonement.jpg
ORGANIZER;CN="Istituto Cinematografico dell'Aquila La Lanterna Magica Ets":MAILTO:lanterna.magica2009@gmail.com
END:VEVENT
BEGIN:VEVENT
DTSTART;TZID=Europe/Rome:20260402T210000
DTEND;TZID=Europe/Rome:20260402T210000
DTSTAMP:20260420T125610
CREATED:20260105T100343Z
LAST-MODIFIED:20260217T150127Z
UID:2473-1775163600-1775163600@laquila2026.nurtest.it
SUMMARY:Italiani da Oscar: proiezione di "L'età dell'Innocenza"
DESCRIPTION:Migliori costumi Gabriella Pescucci\, -L’età dell’Innocenza\, 1993\, regia Martin Scorsese \nUna rassegna che celebra il talento e la maestria dei professionisti italiani che hanno contribuito in modo significativo alla cinematografia mondiale\, vincendo l’Oscar. Questa rassegna mette in luce le figure chiave del cinema italiano\, non solo registi\, ma anche attori\, sceneggiatori\, direttori della fotografia\, montatori e costumisti\, il cui lavoro ha arricchito le produzioni internazionali. Attraverso una selezione di film che rappresentano il meglio del cinema italiano\, l’iniziativa esplora come le competenze artigianali e creative italiane siano alla base di opere che hanno lasciato il segno nella storia del cinema globale\, continuando a ispirare e affascinare anche le nuove generazioni di cineasti.
URL:https://laquila2026.nurtest.it/evento/i-mestieri-del-cinema-italiani-da-oscar-6/
LOCATION:Multisala Movieplex – L’Aquila\, Via Leonardo da Vinci\, 7\, L'Aquila
CATEGORIES:Cinema
ATTACH;FMTTYPE=image/jpeg:https://laquila2026.nurtest.it/wp-content/uploads/2026/01/leta-dellinnocenza.jpg
ORGANIZER;CN="Istituto Cinematografico dell'Aquila La Lanterna Magica Ets":MAILTO:lanterna.magica2009@gmail.com
END:VEVENT
BEGIN:VEVENT
DTSTART;TZID=Europe/Rome:20260319T210000
DTEND;TZID=Europe/Rome:20260319T210000
DTSTAMP:20260420T125610
CREATED:20251223T085016Z
LAST-MODIFIED:20260217T104850Z
UID:2407-1773954000-1773954000@laquila2026.nurtest.it
SUMMARY:Italiani da Oscar: proiezione di "Hugo Cabret"
DESCRIPTION:Migliore scenografia di Dante Ferretti e Francesca Lo Schiavo per il film Hugo Cabret\, 2011\, con la regia di Martin Scorsese. \nUna rassegna che celebra il talento e la maestria dei professionisti italiani che hanno contribuito in modo significativo alla cinematografia mondiale\, vincendo l’Oscar. Questa rassegna mette in luce le figure chiave del cinema italiano\, non solo registi\, ma anche attori\, sceneggiatori\, direttori della fotografia\, montatori e costumisti\, il cui lavoro ha arricchito le produzioni internazionali. Attraverso una selezione di film che rappresentano il meglio del cinema italiano\, l’iniziativa esplora come le competenze artigianali e creative italiane siano alla base di opere che hanno lasciato il segno nella storia del cinema globale\, continuando a ispirare e affascinare anche le nuove generazioni di cineasti.
URL:https://laquila2026.nurtest.it/evento/i-mestieri-del-cinema-italiani-da-oscar-5/
LOCATION:Multisala Movieplex – L’Aquila\, Via Leonardo da Vinci\, 7\, L'Aquila
CATEGORIES:Cinema
ATTACH;FMTTYPE=image/jpeg:https://laquila2026.nurtest.it/wp-content/uploads/2025/12/cineteca_in_sala_marzo_fb-1.jpg
ORGANIZER;CN="Istituto Cinematografico dell'Aquila La Lanterna Magica Ets":MAILTO:lanterna.magica2009@gmail.com
END:VEVENT
BEGIN:VEVENT
DTSTART;VALUE=DATE:20260316
DTEND;VALUE=DATE:20260328
DTSTAMP:20260420T125610
CREATED:20251222T084242Z
LAST-MODIFIED:20260206T082017Z
UID:2368-1773619200-1774655999@laquila2026.nurtest.it
SUMMARY:Podcast e Reportage: raccontare la realtà con voci\, suoni e storie - II edizione
DESCRIPTION:Il Centro Sperimentale di Cinematografia – sede Abruzzo apre le selezioni per un corso gratuito di Podcast e Reportage: un laboratorio aperto per imparare a progettare e realizzare racconti sonori.
URL:https://laquila2026.nurtest.it/evento/podcast-e-reportage-raccontare-la-realta-con-voci-suoni-e-storie-ii-edizione/
LOCATION:Centro Sperimentale di Cinematografia\, Via Rocco Carabba 2\, L’Aquila\, L'Aquila\, AQ\, 67100\, Italy
CATEGORIES:Cinema
ATTACH;FMTTYPE=image/jpeg:https://laquila2026.nurtest.it/wp-content/uploads/2025/12/corso-podcast-social-II-edizione.jpg
ORGANIZER;CN="CSC Centro Sperimentale di Cinematografia Sede Abruzzo":MAILTO:laquila@fondazionecsc.it
END:VEVENT
BEGIN:VEVENT
DTSTART;TZID=Europe/Rome:20260305T210000
DTEND;TZID=Europe/Rome:20260305T210000
DTSTAMP:20260420T125610
CREATED:20251222T090250Z
LAST-MODIFIED:20260217T102504Z
UID:2376-1772744400-1772744400@laquila2026.nurtest.it
SUMMARY:Italiani da Oscar: proiezione di "Divorzio all'italiana"
DESCRIPTION:Miglior Sceneggiatura originale a cura di Ennio De Concini\, Pietro Germi e Alfredo Giannetti per il film “Divorzio all’italiana” 1961\, regia di Pietro Germi. \nUna rassegna che celebra il talento e la maestria dei professionisti italiani che hanno contribuito in modo significativo alla cinematografia mondiale\, vincendo l’Oscar. Questa rassegna mette in luce le figure chiave del cinema italiano\, non solo registi\, ma anche attori\, sceneggiatori\, direttori della fotografia\, montatori e costumisti\, il cui lavoro ha arricchito le produzioni internazionali. Attraverso una selezione di film che rappresentano il meglio del cinema italiano\, l’iniziativa esplora come le competenze artigianali e creative italiane siano alla base di opere che hanno lasciato il segno nella storia del cinema globale\, continuando a ispirare e affascinare anche le nuove generazioni di cineasti.
URL:https://laquila2026.nurtest.it/evento/i-mestieri-del-cinema-italiani-da-oscar-4/
LOCATION:Multisala Movieplex – L’Aquila\, Via Leonardo da Vinci\, 7\, L'Aquila\, Italy
CATEGORIES:Cinema
ATTACH;FMTTYPE=image/jpeg:https://laquila2026.nurtest.it/wp-content/uploads/2025/12/cineteca_in_sala_marzo_fb.jpg
ORGANIZER;CN="Istituto Cinematografico dell'Aquila La Lanterna Magica Ets":MAILTO:lanterna.magica2009@gmail.com
END:VEVENT
BEGIN:VEVENT
DTSTART;TZID=Europe/Rome:20260304T160000
DTEND;TZID=Europe/Rome:20260304T160000
DTSTAMP:20260420T125610
CREATED:20260216T140529Z
LAST-MODIFIED:20260217T102132Z
UID:3446-1772640000-1772640000@laquila2026.nurtest.it
SUMMARY:Presentazione del docufilm "Paolina la ragazza senza gioventù" - produzione La Lanterna Magica
DESCRIPTION:Con la partecipazione dell’Università della Terza Età dell’Aquila\nUn intreccio tra teatro\, documentario e memoria storica\, volto al raccontare le donne nella cultura e nella storia dell’Abruzzo.\nInterviene il Prof. Fabrizio Pompei\, regista e sceneggiatore del docufilm.
URL:https://laquila2026.nurtest.it/evento/presentazione-del-docufilm-paolina-la-ragazza-senza-gioventu-produzione-la-lanterna-magica/
LOCATION:Consiglio Regionale dell’Abruzzo\, Sala Ipogea\, Via Michele Iacobucci\, 4\, L'Aquila\, L'Aquila\, 67100\, Italy
CATEGORIES:Cinema
ATTACH;FMTTYPE=image/jpeg:https://laquila2026.nurtest.it/wp-content/uploads/2026/02/ragazze-senza-gioventu-1.jpg
ORGANIZER;CN="Istituto Cinematografico dell'Aquila La Lanterna Magica Ets":MAILTO:lanterna.magica2009@gmail.com
END:VEVENT
BEGIN:VEVENT
DTSTART;TZID=Europe/Rome:20260219T210000
DTEND;TZID=Europe/Rome:20260219T210000
DTSTAMP:20260420T125610
CREATED:20251126T120126Z
LAST-MODIFIED:20260217T092722Z
UID:1484-1771534800-1771534800@laquila2026.nurtest.it
SUMMARY:I mestieri del cinema: italiani da Oscar - Miglior Fotografia Vittorio Storaro: Apocalypse Now\, 1979\, regia Francis Ford Coppola
DESCRIPTION:Una rassegna che celebra il talento e la maestria dei professionisti italiani che hanno contribuito in modo significativo alla cinematografia mondiale\, vincendo l’Oscar. Questa rassegna mette in luce le figure chiave del cinema italiano\, non solo registi\, ma anche attori\, sceneggiatori\, direttori della fotografia\, montatori e costumisti\, il cui lavoro ha arricchito le produzioni internazionali. Attraverso una selezione di film che rappresentano il meglio del cinema italiano\, l’iniziativa esplora come le competenze artigianali e creative italiane siano alla base di opere che hanno lasciato il segno nella storia del cinema globale\, continuando a ispirare e affascinare anche le nuove generazioni di cineasti. \n 
URL:https://laquila2026.nurtest.it/evento/i-mestieri-del-cinema-italiani-da-oscar-2/
LOCATION:Multisala Movieplex – L’Aquila\, Via Leonardo da Vinci\, 7\, L'Aquila\, Italy
CATEGORIES:Cinema
ATTACH;FMTTYPE=image/jpeg:https://laquila2026.nurtest.it/wp-content/uploads/2026/01/itARTS.jpeg
ORGANIZER;CN="Istituto Cinematografico dell'Aquila La Lanterna Magica Ets":MAILTO:lanterna.magica2009@gmail.com
END:VEVENT
BEGIN:VEVENT
DTSTART;TZID=Europe/Rome:20260213T203000
DTEND;TZID=Europe/Rome:20260213T203000
DTSTAMP:20260420T125610
CREATED:20260211T150458Z
LAST-MODIFIED:20260211T150503Z
UID:3412-1771014600-1771014600@laquila2026.nurtest.it
SUMMARY:Disunited Nations
DESCRIPTION:Proiezione film
URL:https://laquila2026.nurtest.it/evento/disunited-nations/
LOCATION:Cinema Teatro Zeta\, Via Rodolfo Volpe snc\, L'Aquila
CATEGORIES:Cinema
ATTACH;FMTTYPE=image/png:https://laquila2026.nurtest.it/wp-content/uploads/2025/11/130-anni-di-cinema.png
ORGANIZER;CN="Teatro Zeta Aps - Ets":MAILTO:teatrozeta@hotmail.it
END:VEVENT
BEGIN:VEVENT
DTSTART;TZID=Europe/Rome:20260205T210000
DTEND;TZID=Europe/Rome:20260205T210000
DTSTAMP:20260420T125610
CREATED:20251126T084817Z
LAST-MODIFIED:20260217T082835Z
UID:1433-1770325200-1770325200@laquila2026.nurtest.it
SUMMARY:Italiani da Oscar: proiezione di "La rosa tatuata"
DESCRIPTION:Miglior Attrice Anna Magnani – La rosa tatuata\, 1955\, regia Daniel Mann \nUna rassegna che celebra il talento e la maestria dei professionisti italiani che hanno contribuito in modo significativo alla cinematografia mondiale\, vincendo l’Oscar. Questa rassegna mette in luce le figure chiave del cinema italiano\, non solo registi\, ma anche attori\, sceneggiatori\, direttori della fotografia\, montatori e costumisti\, il cui lavoro ha arricchito le produzioni internazionali. Attraverso una selezione di film che rappresentano il meglio del cinema italiano\, l’iniziativa esplora come le competenze artigianali e creative italiane siano alla base di opere che hanno lasciato il segno nella storia del cinema globale\, continuando a ispirare e affascinare anche le nuove generazioni di cineasti.
URL:https://laquila2026.nurtest.it/evento/i-mestieri-del-cinema-italiani-da-oscar/
LOCATION:Multisala Movieplex – L’Aquila\, Via Leonardo da Vinci\, 7\, L'Aquila
CATEGORIES:Cinema
ATTACH;FMTTYPE=image/jpeg:https://laquila2026.nurtest.it/wp-content/uploads/2025/11/cineteca_in_sala_febbraio_fb.jpg
ORGANIZER;CN="Istituto Cinematografico dell'Aquila La Lanterna Magica Ets":MAILTO:lanterna.magica2009@gmail.com
END:VEVENT
BEGIN:VEVENT
DTSTART;TZID=Europe/Rome:20260125T164500
DTEND;TZID=Europe/Rome:20260125T223000
DTSTAMP:20260420T125610
CREATED:20260123T170143Z
LAST-MODIFIED:20260123T170147Z
UID:3025-1769359500-1769380200@laquila2026.nurtest.it
SUMMARY:Orfeo
DESCRIPTION:Regia di Virgilio Villoresi\nUn film con Luca Vergoni\, Giulia Maenza\, Aomi Muyock\, Vinicio Marchioni\nGenere Animazione\, Fantastico – Italia 2025\nDurata 74 minuti\nFin da bambino\, Orfeo immagina storie attorno a una villa abbandonata di fronte a casa sua. Pianista solitario e visionario\, durante una serata al Polypus – il locale dove suona incrocia lo sguardo di Eura. Tra loro nasce un amore assoluto\, ma lei cela un segreto. Poi scompare. Una sera\, Orfeo la vede entrare in una piccola porta su via Saterna\, davanti alla villa\, e la segue. Varcata la soglia\, si ritrova in un aldilà visionario\, abitato da creature come le Melusine\, il Mago dei Boschi e parate di scheletri…\n\nAl termine delle proiezioni\, verrà proiettato il making of del film\n\nore 16.45\nore 18.30\nore 20.30
URL:https://laquila2026.nurtest.it/evento/orfeo-3/
LOCATION:Cinema Teatro Zeta in Via Rodolfo Volpe L’Aquila\, L'Aquila\, Italy
CATEGORIES:Cinema
ATTACH;FMTTYPE=image/jpeg:https://laquila2026.nurtest.it/wp-content/uploads/2026/01/PosterORFEOHQJPG-1920w-scaled.jpg
END:VEVENT
BEGIN:VEVENT
DTSTART;TZID=Europe/Rome:20260124T164500
DTEND;TZID=Europe/Rome:20260124T223000
DTSTAMP:20260420T125610
CREATED:20260123T165736Z
LAST-MODIFIED:20260123T165821Z
UID:3023-1769273100-1769293800@laquila2026.nurtest.it
SUMMARY:Orfeo
DESCRIPTION:Regia di Virgilio Villoresi\nUn film con Luca Vergoni\, Giulia Maenza\, Aomi Muyock\, Vinicio Marchioni\nGenere Animazione\, Fantastico – Italia 2025\nDurata 74 minuti\nFin da bambino\, Orfeo immagina storie attorno a una villa abbandonata di fronte a casa sua. Pianista solitario e visionario\, durante una serata al Polypus – il locale dove suona incrocia lo sguardo di Eura. Tra loro nasce un amore assoluto\, ma lei cela un segreto. Poi scompare. Una sera\, Orfeo la vede entrare in una piccola porta su via Saterna\, davanti alla villa\, e la segue. Varcata la soglia\, si ritrova in un aldilà visionario\, abitato da creature come le Melusine\, il Mago dei Boschi e parate di scheletri…\n\nAl termine delle proiezioni\, verrà proiettato il making of del film\n\nore 16.45\nore 18.30\nore 20.30
URL:https://laquila2026.nurtest.it/evento/orfeo-2/
LOCATION:Cinema Teatro Zeta in Via Rodolfo Volpe L’Aquila\, L'Aquila\, Italy
CATEGORIES:Cinema
ATTACH;FMTTYPE=image/jpeg:https://laquila2026.nurtest.it/wp-content/uploads/2026/01/PosterORFEOHQJPG-1920w-scaled.jpg
END:VEVENT
BEGIN:VEVENT
DTSTART;TZID=Europe/Rome:20260123T164500
DTEND;TZID=Europe/Rome:20260123T223000
DTSTAMP:20260420T125610
CREATED:20260123T145504Z
LAST-MODIFIED:20260123T162757Z
UID:3005-1769186700-1769207400@laquila2026.nurtest.it
SUMMARY:Orfeo
DESCRIPTION:Regia di Virgilio Villoresi\nUn film con Luca Vergoni\, Giulia Maenza\, Aomi Muyock\, Vinicio Marchioni\nGenere Animazione\, Fantastico – Italia 2025\nDurata 74 minuti\nFin da bambino\, Orfeo immagina storie attorno a una villa abbandonata di fronte a casa sua. Pianista solitario e visionario\, durante una serata al Polypus – il locale dove suona incrocia lo sguardo di Eura. Tra loro nasce un amore assoluto\, ma lei cela un segreto. Poi scompare. Una sera\, Orfeo la vede entrare in una piccola porta su via Saterna\, davanti alla villa\, e la segue. Varcata la soglia\, si ritrova in un aldilà visionario\, abitato da creature come le Melusine\, il Mago dei Boschi e parate di scheletri…\n\nAl termine delle proiezioni\, verrà proiettato il making of del film\n\nore 16.45\nore 18.30\nore 20.30
URL:https://laquila2026.nurtest.it/evento/orfeo/
LOCATION:Cinema Teatro Zeta in Via Rodolfo Volpe L’Aquila\, L'Aquila\, Italy
CATEGORIES:Cinema
ATTACH;FMTTYPE=image/jpeg:https://laquila2026.nurtest.it/wp-content/uploads/2026/01/PosterORFEOHQJPG-1920w-scaled.jpg
END:VEVENT
END:VCALENDAR