BEGIN:VCALENDAR
VERSION:2.0
PRODID:-//L&#039;Aquila Capitale italiana della Cultura 2026 - ECPv6.15.20//NONSGML v1.0//EN
CALSCALE:GREGORIAN
METHOD:PUBLISH
X-WR-CALNAME:L&#039;Aquila Capitale italiana della Cultura 2026
X-ORIGINAL-URL:https://laquila2026.nurtest.it
X-WR-CALDESC:Eventi per L&#039;Aquila Capitale italiana della Cultura 2026
REFRESH-INTERVAL;VALUE=DURATION:PT1H
X-Robots-Tag:noindex
X-PUBLISHED-TTL:PT1H
BEGIN:VTIMEZONE
TZID:Europe/Rome
BEGIN:DAYLIGHT
TZOFFSETFROM:+0100
TZOFFSETTO:+0200
TZNAME:CEST
DTSTART:20250330T010000
END:DAYLIGHT
BEGIN:STANDARD
TZOFFSETFROM:+0200
TZOFFSETTO:+0100
TZNAME:CET
DTSTART:20251026T010000
END:STANDARD
BEGIN:DAYLIGHT
TZOFFSETFROM:+0100
TZOFFSETTO:+0200
TZNAME:CEST
DTSTART:20260329T010000
END:DAYLIGHT
BEGIN:STANDARD
TZOFFSETFROM:+0200
TZOFFSETTO:+0100
TZNAME:CET
DTSTART:20261025T010000
END:STANDARD
BEGIN:DAYLIGHT
TZOFFSETFROM:+0100
TZOFFSETTO:+0200
TZNAME:CEST
DTSTART:20270328T010000
END:DAYLIGHT
BEGIN:STANDARD
TZOFFSETFROM:+0200
TZOFFSETTO:+0100
TZNAME:CET
DTSTART:20271031T010000
END:STANDARD
END:VTIMEZONE
BEGIN:VEVENT
DTSTART;TZID=Europe/Rome:20260316T170000
DTEND;TZID=Europe/Rome:20260316T170000
DTSTAMP:20260420T130939
CREATED:20260216T145229Z
LAST-MODIFIED:20260217T104546Z
UID:3461-1773680400-1773680400@laquila2026.nurtest.it
SUMMARY:Masterclass "Un esperienza diffusa: cinema e media digitali
DESCRIPTION:Docenti e studenti universitari sono i destinatari della masterclass su tenuta da MIRKO LINO\, Professore associato in Cinema\, Fotografia\, Radio\, Televisione e Media digitali dell’Università dell’Aquila. Alla masterclass partecipano anche docenti e studenti dell’Università dell’Aquila e dell’Università della Terza Età di L’Aquila.
URL:https://laquila2026.nurtest.it/evento/masterclass-un-esperienza-diffusa-cinema-e-media-digitali/
LOCATION:Università degli Studi dell’Aquila – Edificio Ernesto Pontieri\, Viale Nizza\, 14\, L'Aquila\, L'Aquila\, 67100
CATEGORIES:Masterclass
ORGANIZER;CN="Istituto Cinematografico dell'Aquila La Lanterna Magica Ets":MAILTO:lanterna.magica2009@gmail.com
END:VEVENT
END:VCALENDAR